BEGIN:VCALENDAR
VERSION:2.0
PRODID:-//Ten un cuerpo 10 - ECPv6.15.20//NONSGML v1.0//EN
CALSCALE:GREGORIAN
METHOD:PUBLISH
X-WR-CALNAME:Ten un cuerpo 10
X-ORIGINAL-URL:https://www.tenuncuerpo10.com
X-WR-CALDESC:Eventos para Ten un cuerpo 10
REFRESH-INTERVAL;VALUE=DURATION:PT1H
X-Robots-Tag:noindex
X-PUBLISHED-TTL:PT1H
BEGIN:VTIMEZONE
TZID:Europe/Madrid
BEGIN:DAYLIGHT
TZOFFSETFROM:+0100
TZOFFSETTO:+0200
TZNAME:CEST
DTSTART:20250330T010000
END:DAYLIGHT
BEGIN:STANDARD
TZOFFSETFROM:+0200
TZOFFSETTO:+0100
TZNAME:CET
DTSTART:20251026T010000
END:STANDARD
BEGIN:DAYLIGHT
TZOFFSETFROM:+0100
TZOFFSETTO:+0200
TZNAME:CEST
DTSTART:20260329T010000
END:DAYLIGHT
BEGIN:STANDARD
TZOFFSETFROM:+0200
TZOFFSETTO:+0100
TZNAME:CET
DTSTART:20261025T010000
END:STANDARD
BEGIN:DAYLIGHT
TZOFFSETFROM:+0100
TZOFFSETTO:+0200
TZNAME:CEST
DTSTART:20270328T010000
END:DAYLIGHT
BEGIN:STANDARD
TZOFFSETFROM:+0200
TZOFFSETTO:+0100
TZNAME:CET
DTSTART:20271031T010000
END:STANDARD
END:VTIMEZONE
BEGIN:VEVENT
DTSTART;VALUE=DATE:20260423
DTEND;VALUE=DATE:20260427
DTSTAMP:20260423T173416
CREATED:20251223T164708Z
LAST-MODIFIED:20260322T192651Z
UID:10000839-1776902400-1777247999@www.tenuncuerpo10.com
SUMMARY:IFBB WEST AFRICAN CHAMPIONSHIP
DESCRIPTION:
URL:https://www.tenuncuerpo10.com/evento/ifbb-west-african-championship-2/
LOCATION:Bukom Boxing Arena\, Bukom Boxing Arena\, GQPH+7H6\, Ring Rd W Rd\, Accra\, Ghana
CATEGORIES:IFBB,IFBB amateur
ATTACH;FMTTYPE=image/jpeg:https://www.tenuncuerpo10.com/wp-content/uploads/2025/05/IFBB-AMATEUR-EVENT.jpg
ORGANIZER;CN="IFBB":MAILTO:info@ifbb.com
END:VEVENT
BEGIN:VEVENT
DTSTART;VALUE=DATE:20260424
DTEND;VALUE=DATE:20260426
DTSTAMP:20260423T173416
CREATED:20251104T164611Z
LAST-MODIFIED:20260322T194638Z
UID:10000808-1776988800-1777161599@www.tenuncuerpo10.com
SUMMARY:IFBB INTERNATIONAL CUP RIGA PEARL
DESCRIPTION:
URL:https://www.tenuncuerpo10.com/evento/ifbb-international-cup-riga-pearl/
LOCATION:Atta Centre\, Krasta iela 60\, Riga\, LV-1003\, Latvia
CATEGORIES:IFBB,IFBB amateur
ATTACH;FMTTYPE=image/png:https://www.tenuncuerpo10.com/wp-content/uploads/2025/11/ifbb-international-cup-riga-pearl-1770147090.png
ORGANIZER;CN="IFBB":MAILTO:info@ifbb.com
END:VEVENT
BEGIN:VEVENT
DTSTART;VALUE=DATE:20260425
DTEND;VALUE=DATE:20260427
DTSTAMP:20260423T173416
CREATED:20260107T153554Z
LAST-MODIFIED:20260322T194715Z
UID:10000846-1777075200-1777247999@www.tenuncuerpo10.com
SUMMARY:IFBB DIAMOND CUP MALTA
DESCRIPTION:
URL:https://www.tenuncuerpo10.com/evento/ifbb-diamond-cup-malta-2/
LOCATION:DoubleTree by Hilton Malta\, St Paul's Bay\, SPB 2402\, Malta
CATEGORIES:IFBB,IFBB amateur,MAKEUP AND HAIRSTYLE,MAKEUP01
ATTACH;FMTTYPE=image/jpeg:https://www.tenuncuerpo10.com/wp-content/uploads/2026/01/ifbb-diamond-cup-malta-1768324426.jpg
ORGANIZER;CN="IFBB":MAILTO:info@ifbb.com
END:VEVENT
BEGIN:VEVENT
DTSTART;VALUE=DATE:20260425
DTEND;VALUE=DATE:20260427
DTSTAMP:20260423T173416
CREATED:20260107T153709Z
LAST-MODIFIED:20260322T202809Z
UID:10000847-1777075200-1777247999@www.tenuncuerpo10.com
SUMMARY:IFBB SEMI PRO DIAMOND CUP MALTA
DESCRIPTION:
URL:https://www.tenuncuerpo10.com/evento/ifbb-semi-pro-diamond-cup-malta-2/
LOCATION:DoubleTree by Hilton Malta\, St Paul's Bay\, SPB 2402\, Malta
CATEGORIES:IFBB,IFBB SEMI PRO,MAKEUP AND HAIRSTYLE,MAKEUP01
ATTACH;FMTTYPE=image/jpeg:https://www.tenuncuerpo10.com/wp-content/uploads/2026/01/ifbb-semi-pro-diamond-cup-malta.jpg
ORGANIZER;CN="IFBB PRO Official":MAILTO:info@ifbbproofficial.com
END:VEVENT
BEGIN:VEVENT
DTSTART;VALUE=DATE:20260425
DTEND;VALUE=DATE:20260427
DTSTAMP:20260423T173416
CREATED:20260107T192439Z
LAST-MODIFIED:20260419T083233Z
UID:10000848-1777075200-1777247999@www.tenuncuerpo10.com
SUMMARY:IFBB PRO MALTA
DESCRIPTION:
URL:https://www.tenuncuerpo10.com/evento/ifbb-pro-malta/
LOCATION:DoubleTree by Hilton Malta\, St Paul's Bay\, SPB 2402\, Malta
CATEGORIES:IFBB,IFBB PRO Official,MAKEUP AND HAIRSTYLE,MAKEUP01
ATTACH;FMTTYPE=image/jpeg:https://www.tenuncuerpo10.com/wp-content/uploads/2026/01/ifbb-pro-malta-1768836694.jpg
ORGANIZER;CN="IFBB PRO Official":MAILTO:info@ifbbproofficial.com
END:VEVENT
BEGIN:VEVENT
DTSTART;VALUE=DATE:20260430
DTEND;VALUE=DATE:20260505
DTSTAMP:20260423T173416
CREATED:20250703T101157Z
LAST-MODIFIED:20260324T154627Z
UID:10000762-1777507200-1777939199@www.tenuncuerpo10.com
SUMMARY:IFBB EUROPEAN CHAMPIONSHIPS
DESCRIPTION:
URL:https://www.tenuncuerpo10.com/evento/ifbb-european-championships/
LOCATION:Santa Susanna\, Santa Susanna\, Catalonia\, Santa Susanna\, Barcelona\, 08398\, Spain
CATEGORIES:IFBB,IFBB amateur,MAKEUP AND HAIRSTYLE,MAKEUP01,tc10 section
ATTACH;FMTTYPE=image/jpeg:https://www.tenuncuerpo10.com/wp-content/uploads/2025/07/ifbb-european-championships-1770207089.jpg
ORGANIZER;CN="IFBB":MAILTO:info@ifbb.com
END:VEVENT
BEGIN:VEVENT
DTSTART;VALUE=DATE:20260430
DTEND;VALUE=DATE:20260505
DTSTAMP:20260423T173416
CREATED:20260216T152848Z
LAST-MODIFIED:20260320T220014Z
UID:10000901-1777507200-1777939199@www.tenuncuerpo10.com
SUMMARY:IFBB SEMI PRO MR EUROPE 2026
DESCRIPTION:
URL:https://www.tenuncuerpo10.com/evento/ifbb-semi-pro-mr-europe-2026/
LOCATION:Santa Susanna\, Santa Susanna\, Catalonia\, Santa Susanna\, Barcelona\, 08398\, Spain
CATEGORIES:IFBB,IFBB SEMI PRO,tc10 section
ATTACH;FMTTYPE=image/jpeg:https://www.tenuncuerpo10.com/wp-content/uploads/2026/02/ifbb-semi-pro-mr-europe-2026-1773247897.jpg
ORGANIZER;CN="IFBB PRO Official":MAILTO:info@ifbbproofficial.com
END:VEVENT
BEGIN:VEVENT
DTSTART;VALUE=DATE:20260509
DTEND;VALUE=DATE:20260511
DTSTAMP:20260423T173416
CREATED:20260123T134648Z
LAST-MODIFIED:20260401T142038Z
UID:10000871-1778284800-1778457599@www.tenuncuerpo10.com
SUMMARY:DIAMOND CUP VERONA
DESCRIPTION:
URL:https://www.tenuncuerpo10.com/evento/diamond-cup-verona/
LOCATION:Hotel Montressor\, Hotel Montressor\, Via A. Mantegna\, 30 VR\, Bussolengo\, Verona\, 37012\, Italy
CATEGORIES:IFBB,IFBB amateur,MAKEUP AND HAIRSTYLE,MAKEUP01
ATTACH;FMTTYPE=image/jpeg:https://www.tenuncuerpo10.com/wp-content/uploads/2025/05/IFBB-AMATEUR-EVENT.jpg
ORGANIZER;CN="IFBB":MAILTO:info@ifbb.com
END:VEVENT
BEGIN:VEVENT
DTSTART;VALUE=DATE:20260509
DTEND;VALUE=DATE:20260512
DTSTAMP:20260423T173416
CREATED:20251215T202039Z
LAST-MODIFIED:20260322T194836Z
UID:10000825-1778284800-1778543999@www.tenuncuerpo10.com
SUMMARY:IFBB OPEN BALKAN CUP AND THE 5TH KIDS FITNESS GOLD GRAND PRIX
DESCRIPTION:
URL:https://www.tenuncuerpo10.com/evento/ifbb-open-balkan-cup-and-the-5th-kids-fitness-gold-grand-prix-2/
LOCATION:Culture Center Knjaževac\, Culture Center Knjaževac\, Branka Radičevića 1\, Knjaževac\, 19350\, Serbia
CATEGORIES:IFBB,IFBB amateur
ATTACH;FMTTYPE=image/jpeg:https://www.tenuncuerpo10.com/wp-content/uploads/2025/12/ifbb-open-balkan-cup-and-the-5th-kids-fitness-gold-grand-prix-1768836700.jpg
ORGANIZER;CN="IFBB":MAILTO:info@ifbb.com
GEO:43.5685944;22.2557324
X-APPLE-STRUCTURED-LOCATION;VALUE=URI;X-ADDRESS=Culture Center Knjaževac Culture Center Knjaževac Branka Radičevića 1 Knjaževac 19350 Serbia;X-APPLE-RADIUS=500;X-TITLE=Culture Center Knjaževac\, Branka Radičevića 1:geo:22.2557324,43.5685944
END:VEVENT
BEGIN:VEVENT
DTSTART;VALUE=DATE:20260509
DTEND;VALUE=DATE:20260512
DTSTAMP:20260423T173416
CREATED:20260401T140317Z
LAST-MODIFIED:20260401T141813Z
UID:10000921-1778284800-1778543999@www.tenuncuerpo10.com
SUMMARY:IFBB SEMI PRO DIAMOND CUP VERONA 2026
DESCRIPTION:
URL:https://www.tenuncuerpo10.com/evento/ifbb-semi-pro-diamond-cup-verona-2026/
LOCATION:Hotel Montressor\, Hotel Montressor\, Via A. Mantegna\, 30 VR\, Bussolengo\, Verona\, 37012\, Italy
CATEGORIES:IFBB,IFBB SEMI PRO
ATTACH;FMTTYPE=image/jpeg:https://www.tenuncuerpo10.com/wp-content/uploads/2026/04/ifbb-semi-pro-diamond-cup-verona-2026-1775052716.jpg
ORGANIZER;CN="IFBB PRO Official":MAILTO:info@ifbbproofficial.com
END:VEVENT
BEGIN:VEVENT
DTSTART;VALUE=DATE:20260514
DTEND;VALUE=DATE:20260519
DTSTAMP:20260423T173416
CREATED:20260115T082512Z
LAST-MODIFIED:20260322T202928Z
UID:10000853-1778716800-1779148799@www.tenuncuerpo10.com
SUMMARY:IFBB SEMI PRO ROGER BOYCE CLASSIC
DESCRIPTION:
URL:https://www.tenuncuerpo10.com/evento/ifbb-semi-pro-roger-boyce-classic/
LOCATION:Gymnasium Garfield Sobers\, Gymnasium Garfield Sobers\, Saint Michael Barbados\, Bridgetown\, Barbados
CATEGORIES:IFBB,IFBB SEMI PRO
ATTACH;FMTTYPE=image/png:https://www.tenuncuerpo10.com/wp-content/uploads/2026/01/ifbb-semi-pro-roger-boyce-classic-1772120543.png
ORGANIZER;CN="IFBB PRO Official":MAILTO:info@ifbbproofficial.com
END:VEVENT
BEGIN:VEVENT
DTSTART;VALUE=DATE:20260514
DTEND;VALUE=DATE:20260519
DTSTAMP:20260423T173416
CREATED:20260225T161354Z
LAST-MODIFIED:20260322T203839Z
UID:10000908-1778716800-1779148799@www.tenuncuerpo10.com
SUMMARY:IFBB PRO WORLD CUP – ROGER BOYCE – WOMEN’S PHYSIQUE WORLD CHAMPIONSHIPS 2026
DESCRIPTION:
URL:https://www.tenuncuerpo10.com/evento/ifbb-pro-world-cup-roger-boyce-womens-physique-world-championships-2026/
LOCATION:Gymnasium Garfield Sobers\, Gymnasium Garfield Sobers\, Saint Michael Barbados\, Bridgetown\, Barbados
CATEGORIES:IFBB,IFBB PRO Official
ATTACH;FMTTYPE=image/jpeg:https://www.tenuncuerpo10.com/wp-content/uploads/2026/02/ifbb-pro-world-cup-roger-boyce-womens-physique-world-championships-2026-1772036498.jpg
ORGANIZER;CN="IFBB PRO Official":MAILTO:info@ifbbproofficial.com
END:VEVENT
BEGIN:VEVENT
DTSTART;VALUE=DATE:20260515
DTEND;VALUE=DATE:20260518
DTSTAMP:20260423T173416
CREATED:20251111T125041Z
LAST-MODIFIED:20260322T194913Z
UID:10000810-1778803200-1779062399@www.tenuncuerpo10.com
SUMMARY:IFBB GRAND PRIX HERKULES
DESCRIPTION:
URL:https://www.tenuncuerpo10.com/evento/ifbb-grand-prix-herkules-3/
LOCATION:Atina Bojadji Sports Hall\, Atina Bojadji Sports Hall\, 4R47+6MC\,\, Ohrid\, 6000\, North Macedonia
CATEGORIES:IFBB,IFBB amateur
ATTACH;FMTTYPE=image/jpeg:https://www.tenuncuerpo10.com/wp-content/uploads/2025/11/ifbb-grand-prix-herkules-1772502825.jpg
ORGANIZER;CN="IFBB":MAILTO:info@ifbb.com
END:VEVENT
BEGIN:VEVENT
DTSTART;VALUE=DATE:20260515
DTEND;VALUE=DATE:20260518
DTSTAMP:20260423T173416
CREATED:20260121T154929Z
LAST-MODIFIED:20260322T195016Z
UID:10000868-1778803200-1779062399@www.tenuncuerpo10.com
SUMMARY:IFBB ROGER BOYCE CLASSIC
DESCRIPTION:
URL:https://www.tenuncuerpo10.com/evento/ifbb-roger-boyce-classic-3/
LOCATION:Gymnasium Garfield Sobers\, Gymnasium Garfield Sobers\, Saint Michael Barbados\, Bridgetown\, Barbados
CATEGORIES:IFBB,IFBB amateur
ATTACH;FMTTYPE=image/jpeg:https://www.tenuncuerpo10.com/wp-content/uploads/2026/01/ifbb-roger-boyce-classic-1769010739.jpg
ORGANIZER;CN="IFBB":MAILTO:info@ifbb.com
END:VEVENT
BEGIN:VEVENT
DTSTART;VALUE=DATE:20260515
DTEND;VALUE=DATE:20260518
DTSTAMP:20260423T173416
CREATED:20260320T214312Z
LAST-MODIFIED:20260320T215703Z
UID:10000915-1778803200-1779062399@www.tenuncuerpo10.com
SUMMARY:IFBB SEMI PRO DIAMOND CUP CZECHIA
DESCRIPTION:
URL:https://www.tenuncuerpo10.com/evento/ifbb-semi-pro-diamond-cup-czechia-2/
LOCATION:House of Culture Milovice\, Nám. 30. června\, 289 24 Milovice nad Labem 3\, Milovice\, 289 24\, Czech Republic
CATEGORIES:IFBB,IFBB SEMI PRO
ATTACH;FMTTYPE=image/jpeg:https://www.tenuncuerpo10.com/wp-content/uploads/2026/03/ifbb-semi-pro-diamond-cup-czechia-1774043491.jpg
ORGANIZER;CN="IFBB PRO Official":MAILTO:info@ifbbproofficial.com
END:VEVENT
BEGIN:VEVENT
DTSTART;VALUE=DATE:20260516
DTEND;VALUE=DATE:20260517
DTSTAMP:20260423T173416
CREATED:20260121T114920Z
LAST-MODIFIED:20260322T203053Z
UID:10000865-1778889600-1778975999@www.tenuncuerpo10.com
SUMMARY:IFBB SEMI-PRO HERKULES GRAND PRIX
DESCRIPTION:
URL:https://www.tenuncuerpo10.com/evento/ifbb-semi-pro-herkules-grand-prix/
LOCATION:Atina Bojadji Sports Hall\, Atina Bojadji Sports Hall\, 4R47+6MC\,\, Ohrid\, 6000\, North Macedonia
CATEGORIES:IFBB,IFBB SEMI PRO
ATTACH;FMTTYPE=image/jpeg:https://www.tenuncuerpo10.com/wp-content/uploads/2026/01/ifbb-semi-pro-herkules-grand-prix-1769445114.jpg
ORGANIZER;CN="IFBB PRO Official":MAILTO:info@ifbbproofficial.com
END:VEVENT
BEGIN:VEVENT
DTSTART;VALUE=DATE:20260516
DTEND;VALUE=DATE:20260517
DTSTAMP:20260423T173416
CREATED:20260121T115032Z
LAST-MODIFIED:20260322T203911Z
UID:10000866-1778889600-1778975999@www.tenuncuerpo10.com
SUMMARY:IFBB PRO HERKULES
DESCRIPTION:
URL:https://www.tenuncuerpo10.com/evento/ifbb-pro-herkules/
LOCATION:Atina Bojadji Sports Hall\, Atina Bojadji Sports Hall\, 4R47+6MC\,\, Ohrid\, 6000\, North Macedonia
CATEGORIES:IFBB,IFBB PRO Official
ATTACH;FMTTYPE=image/jpeg:https://www.tenuncuerpo10.com/wp-content/uploads/2026/01/ifbb-pro-herkules-1769107895.jpg
ORGANIZER;CN="IFBB PRO Official":MAILTO:info@ifbbproofficial.com
END:VEVENT
BEGIN:VEVENT
DTSTART;VALUE=DATE:20260516
DTEND;VALUE=DATE:20260517
DTSTAMP:20260423T173416
CREATED:20260130T121219Z
LAST-MODIFIED:20260322T195051Z
UID:10000892-1778889600-1778975999@www.tenuncuerpo10.com
SUMMARY:IFBB DIAMOND CUP CZECHIA
DESCRIPTION:
URL:https://www.tenuncuerpo10.com/evento/ifbb-diamond-cup-czechia/
LOCATION:House of Culture Milovice\, Nám. 30. června\, 289 24 Milovice nad Labem 3\, Milovice\, 289 24\, Czech Republic
CATEGORIES:IFBB,IFBB amateur
ATTACH;FMTTYPE=image/png:https://www.tenuncuerpo10.com/wp-content/uploads/2026/01/ifbb-diamond-cup-czechia-1772502095.png
ORGANIZER;CN="IFBB":MAILTO:info@ifbb.com
END:VEVENT
BEGIN:VEVENT
DTSTART;VALUE=DATE:20260516
DTEND;VALUE=DATE:20260518
DTSTAMP:20260423T173416
CREATED:20251216T141046Z
LAST-MODIFIED:20260409T182520Z
UID:10000826-1778889600-1779062399@www.tenuncuerpo10.com
SUMMARY:MISS FIT MODEL EUROPE 2026
DESCRIPTION:
URL:https://www.tenuncuerpo10.com/evento/miss-fit-model-europe-2026-2/
LOCATION:Benidorm Palace\, Benidorm Palace\, Avenida Doctor Severo Ochoa 13\, Benidorm\, Alicante\, 03503\, Spain
CATEGORIES:IFBB,IFBB amateur,MAKEUP AND HAIRSTYLE,MAKEUP01
ATTACH;FMTTYPE=image/jpeg:https://www.tenuncuerpo10.com/wp-content/uploads/2025/12/MISS-FIT-MODEL-EUROPE-2026.jpg
ORGANIZER;CN="IFBB":MAILTO:info@ifbb.com
GEO:38.5444663;-0.1026449
X-APPLE-STRUCTURED-LOCATION;VALUE=URI;X-ADDRESS=Benidorm Palace Benidorm Palace Avenida Doctor Severo Ochoa 13 Benidorm Alicante 03503 Spain;X-APPLE-RADIUS=500;X-TITLE=Benidorm Palace\, Avenida Doctor Severo Ochoa 13:geo:-0.1026449,38.5444663
END:VEVENT
BEGIN:VEVENT
DTSTART;VALUE=DATE:20260520
DTEND;VALUE=DATE:20260526
DTSTAMP:20260423T173416
CREATED:20260220T065306Z
LAST-MODIFIED:20260322T203123Z
UID:10000906-1779235200-1779753599@www.tenuncuerpo10.com
SUMMARY:IFBB SEMI PRO CENTRAL ASIAN
DESCRIPTION:
URL:https://www.tenuncuerpo10.com/evento/ifbb-semi-pro-central-asian-2/
LOCATION:Jaiyq Arena\, Zhayyk Arena\, 134 Samal Street\, Uralsk\, Kazakhstan
CATEGORIES:IFBB,IFBB SEMI PRO
ATTACH;FMTTYPE=image/jpeg:https://www.tenuncuerpo10.com/wp-content/uploads/2026/02/ifbb-semi-pro-central-asian-1771570946.jpg
ORGANIZER;CN="IFBB PRO Official":MAILTO:info@ifbbproofficial.com
END:VEVENT
BEGIN:VEVENT
DTSTART;VALUE=DATE:20260523
DTEND;VALUE=DATE:20260525
DTSTAMP:20260423T173416
CREATED:20251222T161239Z
LAST-MODIFIED:20260322T195314Z
UID:10000829-1779494400-1779667199@www.tenuncuerpo10.com
SUMMARY:IFBB MR & MS UNIVERSE ARMENIA
DESCRIPTION:
URL:https://www.tenuncuerpo10.com/evento/ifbb-mr-ms-universe-armenia/
LOCATION:Mika Sport Complex\, Mika Sport Complex\, 46 Manandyan St\,\, Yerevan\, 0046\, Armenia
CATEGORIES:IFBB,IFBB amateur
ATTACH;FMTTYPE=image/jpeg:https://www.tenuncuerpo10.com/wp-content/uploads/2025/12/ifbb-mr-ms-universe-armenia-1772502820.jpg
ORGANIZER;CN="IFBB":MAILTO:info@ifbb.com
END:VEVENT
BEGIN:VEVENT
DTSTART;VALUE=DATE:20260523
DTEND;VALUE=DATE:20260525
DTSTAMP:20260423T173416
CREATED:20260115T082352Z
LAST-MODIFIED:20260327T114904Z
UID:10000852-1779494400-1779667199@www.tenuncuerpo10.com
SUMMARY:IFBB SEMI PRO ARMENIA
DESCRIPTION:
URL:https://www.tenuncuerpo10.com/evento/ifbb-semi-pro-armenia/
LOCATION:Mika Sport Complex\, Mika Sport Complex\, 46 Manandyan St\,\, Yerevan\, 0046\, Armenia
CATEGORIES:IFBB,IFBB SEMI PRO
ATTACH;FMTTYPE=image/jpeg:https://www.tenuncuerpo10.com/wp-content/uploads/2026/01/ifbb-semi-pro-armenia-1774662118.jpg
ORGANIZER;CN="IFBB PRO Official":MAILTO:info@ifbbproofficial.com
END:VEVENT
BEGIN:VEVENT
DTSTART;VALUE=DATE:20260523
DTEND;VALUE=DATE:20260525
DTSTAMP:20260423T173416
CREATED:20260401T100423Z
LAST-MODIFIED:20260401T101331Z
UID:10000919-1779494400-1779667199@www.tenuncuerpo10.com
SUMMARY:IFBB CENTRAL ASIAN CHAMPIONSHIPS
DESCRIPTION:
URL:https://www.tenuncuerpo10.com/evento/ifbb-central-asian-championships-2/
LOCATION:Jaiyq Arena\, Zhayyk Arena\, 134 Samal Street\, Uralsk\, Kazakhstan
CATEGORIES:IFBB,IFBB amateur
ATTACH;FMTTYPE=image/png:https://www.tenuncuerpo10.com/wp-content/uploads/2026/04/ifbb-central-asian-championships-1775038288.png
ORGANIZER;CN="IFBB":MAILTO:info@ifbb.com
END:VEVENT
BEGIN:VEVENT
DTSTART;VALUE=DATE:20260530
DTEND;VALUE=DATE:20260601
DTSTAMP:20260423T173416
CREATED:20260130T121048Z
LAST-MODIFIED:20260322T195405Z
UID:10000891-1780099200-1780271999@www.tenuncuerpo10.com
SUMMARY:DIAMOND CUP RIMINI
DESCRIPTION:
URL:https://www.tenuncuerpo10.com/evento/diamond-cup-rimini-2/
LOCATION:Rimini\, Rimini\, Italy
CATEGORIES:IFBB,IFBB amateur,MAKEUP AND HAIRSTYLE,MAKEUP01
ATTACH;FMTTYPE=image/jpeg:https://www.tenuncuerpo10.com/wp-content/uploads/2025/05/IFBB-AMATEUR-EVENT.jpg
ORGANIZER;CN="IFBB":MAILTO:info@ifbb.com
END:VEVENT
BEGIN:VEVENT
DTSTART;VALUE=DATE:20260608
DTEND;VALUE=DATE:20260609
DTSTAMP:20260423T173416
CREATED:20260130T120925Z
LAST-MODIFIED:20260322T195435Z
UID:10000890-1780876800-1780963199@www.tenuncuerpo10.com
SUMMARY:IFBB SOUTHERN EUROPEAN CHAMPIONSHIPS
DESCRIPTION:
URL:https://www.tenuncuerpo10.com/evento/ifbb-southern-european-championships-2/
LOCATION:Portugal\, Portugal
CATEGORIES:IFBB,IFBB amateur,MAKEUP AND HAIRSTYLE,MAKEUP01
ATTACH;FMTTYPE=image/jpeg:https://www.tenuncuerpo10.com/wp-content/uploads/2025/05/IFBB-AMATEUR-EVENT.jpg
ORGANIZER;CN="IFBB":MAILTO:info@ifbb.com
END:VEVENT
BEGIN:VEVENT
DTSTART;VALUE=DATE:20260611
DTEND;VALUE=DATE:20260615
DTSTAMP:20260423T173416
CREATED:20260122T115828Z
LAST-MODIFIED:20260322T195512Z
UID:10000870-1781136000-1781481599@www.tenuncuerpo10.com
SUMMARY:CAMPEONATO CENTROAMERICANO DE FISICOCULTURISMO
DESCRIPTION:
URL:https://www.tenuncuerpo10.com/evento/campeonato-centroamericano-de-fisicoculturismo/
LOCATION:El Salvador\, El Salvador
CATEGORIES:IFBB,IFBB amateur
ATTACH;FMTTYPE=image/jpeg:https://www.tenuncuerpo10.com/wp-content/uploads/2025/05/IFBB-AMATEUR-EVENT.jpg
ORGANIZER;CN="IFBB":MAILTO:info@ifbb.com
END:VEVENT
BEGIN:VEVENT
DTSTART;VALUE=DATE:20260612
DTEND;VALUE=DATE:20260616
DTSTAMP:20260423T173416
CREATED:20251031T145629Z
LAST-MODIFIED:20260406T195122Z
UID:10000807-1781222400-1781567999@www.tenuncuerpo10.com
SUMMARY:IFBB WORLD CHAMPIONSHIPS IN CHILDREN FITNESS
DESCRIPTION:
URL:https://www.tenuncuerpo10.com/evento/ifbb-world-championships-in-children-fitness-3/
LOCATION:Hala – Mladost\, Hala - Mladost\, Браће Петронијевић\, Čačak\, Serbia
CATEGORIES:IFBB,IFBB amateur
ATTACH;FMTTYPE=image/jpeg:https://www.tenuncuerpo10.com/wp-content/uploads/2025/10/ifbb-world-championships-in-children-fitness-1775494288.jpg
ORGANIZER;CN="IFBB":MAILTO:info@ifbb.com
END:VEVENT
BEGIN:VEVENT
DTSTART;VALUE=DATE:20260613
DTEND;VALUE=DATE:20260615
DTSTAMP:20260423T173416
CREATED:20251223T124542Z
LAST-MODIFIED:20260409T124843Z
UID:10000835-1781308800-1781481599@www.tenuncuerpo10.com
SUMMARY:IFBB DIAMOND CUP HUNGARY & Bikini and Fit Model European Cup
DESCRIPTION:
URL:https://www.tenuncuerpo10.com/evento/ifbb-diamond-cup-hungary-bikini-and-fit-model-european-cup-2/
LOCATION:Papp László Budapest Sportaréna\, Stefánia út 2\, Budapest\, 1143\, Hungary
CATEGORIES:IFBB,IFBB amateur,MAKEUP AND HAIRSTYLE,MAKEUP01
ATTACH;FMTTYPE=image/jpeg:https://www.tenuncuerpo10.com/wp-content/uploads/2025/12/ifbb-diamond-cup-hungary-bikini-and-fit-model-european-cup-1775739096.jpg
ORGANIZER;CN="IFBB":MAILTO:info@ifbb.com
END:VEVENT
BEGIN:VEVENT
DTSTART;VALUE=DATE:20260613
DTEND;VALUE=DATE:20260615
DTSTAMP:20260423T173416
CREATED:20260330T151114Z
LAST-MODIFIED:20260330T151213Z
UID:10000918-1781308800-1781481599@www.tenuncuerpo10.com
SUMMARY:DIAMOND CUP ROME
DESCRIPTION:
URL:https://www.tenuncuerpo10.com/evento/diamond-cup-rome/
LOCATION:Hotel Principe Pomezia\, Hotel Principe Pomezia\, Via dei Castelli Romani 14A\, Roma\, 00071\, Italy
CATEGORIES:IFBB,IFBB amateur
ATTACH;FMTTYPE=image/jpeg:https://www.tenuncuerpo10.com/wp-content/uploads/2025/05/IFBB-AMATEUR-EVENT.jpg
ORGANIZER;CN="IFBB":MAILTO:info@ifbb.com
END:VEVENT
BEGIN:VEVENT
DTSTART;VALUE=DATE:20260613
DTEND;VALUE=DATE:20260616
DTSTAMP:20260423T173416
CREATED:20260409T124925Z
LAST-MODIFIED:20260409T125107Z
UID:10000926-1781308800-1781567999@www.tenuncuerpo10.com
SUMMARY:IFBB SEMI PRO HUNGARY
DESCRIPTION:
URL:https://www.tenuncuerpo10.com/evento/ifbb-semi-pro-hungary/
LOCATION:Papp László Budapest Sportaréna\, Stefánia út 2\, Budapest\, 1143\, Hungary
CATEGORIES:IFBB,IFBB SEMI PRO
ATTACH;FMTTYPE=image/jpeg:https://www.tenuncuerpo10.com/wp-content/uploads/2026/04/ifbb-semi-pro-hungary-1775739091.jpg
ORGANIZER;CN="IFBB PRO Official":MAILTO:info@ifbbproofficial.com
END:VEVENT
END:VCALENDAR